BEGIN:VCALENDAR
VERSION:2.0
PRODID:-//Sophicity/Tribune/Rockmart, GA
BEGIN:VEVENT
DTSTAMP:20260424T115021Z
UID:ece2d61c-0c90-4b13-9e93-286e7dbbf186-5903
DTSTART:20260619T151800Z
DTEND:20260619T151800Z
CLASS:PUBLIC
SUMMARY:HOLIDAY- OFFICES CLOSED
END:VEVENT
END:VCALENDAR
