BEGIN:VCALENDAR
VERSION:2.0
PRODID:-//Sophicity/Tribune/Rockmart, GA
BEGIN:VEVENT
DTSTAMP:20260424T120105Z
UID:ece2d61c-0c90-4b13-9e93-286e7dbbf186-5251
DTSTART:20260609T230000Z
DTEND:20260610T000000Z
LOCATION:316 N. Piedmont Avenue
CLASS:PUBLIC
SUMMARY:City Council Meeting
END:VEVENT
END:VCALENDAR
